BEGIN:VCALENDAR
VERSION:2.0
PRODID:-//Anthony Caporale - ECPv6.15.18//NONSGML v1.0//EN
CALSCALE:GREGORIAN
METHOD:PUBLISH
X-WR-CALNAME:Anthony Caporale
X-ORIGINAL-URL:https://anthonycaporale.com
X-WR-CALDESC:Events for Anthony Caporale
REFRESH-INTERVAL;VALUE=DURATION:PT1H
X-Robots-Tag:noindex
X-PUBLISHED-TTL:PT1H
BEGIN:VTIMEZONE
TZID:America/New_York
BEGIN:DAYLIGHT
TZOFFSETFROM:-0500
TZOFFSETTO:-0400
TZNAME:EDT
DTSTART:20250309T070000
END:DAYLIGHT
BEGIN:STANDARD
TZOFFSETFROM:-0400
TZOFFSETTO:-0500
TZNAME:EST
DTSTART:20251102T060000
END:STANDARD
BEGIN:DAYLIGHT
TZOFFSETFROM:-0500
TZOFFSETTO:-0400
TZNAME:EDT
DTSTART:20260308T070000
END:DAYLIGHT
BEGIN:STANDARD
TZOFFSETFROM:-0400
TZOFFSETTO:-0500
TZNAME:EST
DTSTART:20261101T060000
END:STANDARD
BEGIN:DAYLIGHT
TZOFFSETFROM:-0500
TZOFFSETTO:-0400
TZNAME:EDT
DTSTART:20270314T070000
END:DAYLIGHT
BEGIN:STANDARD
TZOFFSETFROM:-0400
TZOFFSETTO:-0500
TZNAME:EST
DTSTART:20271107T060000
END:STANDARD
END:VTIMEZONE
BEGIN:VEVENT
DTSTART;TZID=America/New_York:20260318T180000
DTEND;TZID=America/New_York:20260318T200000
DTSTAMP:20260420T142707
CREATED:20260316T171555Z
LAST-MODIFIED:20260316T175004Z
UID:2218-1773856800-1773864000@anthonycaporale.com
SUMMARY:March Whiskey Masterclass: St. Patrick's Day Edition
DESCRIPTION:Mystic in March is basically asking for an Irish whiskey night! \nFor this St. Patrick’s season class at Spencer & Lynn\, we’re excited to welcome back our good pal Chef Anthony Caporale\, Director of Spirits Education at New York’s award winning Institute of Culinary Education\, for a lively evening centered on Irish whiskey\, great stories\, and plenty to taste. Anthony will lead a guided tasting of four Irish whiskies while walking us through the bigger story behind Ireland’s signature spirit\, where it came from\, how it evolved\, and why it’s having such a well deserved moment again. Along the way\, you’ll learn how Irish whiskey is made\, how to taste with more confidence\, what sets the major styles apart\, and how maturation shapes flavor\, texture\, and finish. Get 10% off all purchases that evening! \nRegister now at: \nhttps://www.eventbrite.com/e/march-whiskey-masterclass-st-patricks-edition-tickets-1984581366290
URL:https://anthonycaporale.com/event/march-whiskey-masterclass-st-patricks-day-edition/
LOCATION:Spencer & Lynn\, 17 West Main Street\, Mystic\, CT\, 06355\, United States
CATEGORIES:Mixology Class
ATTACH;FMTTYPE=image/png:https://anthonycaporale.com/wp-content/uploads/2026/03/Screenshot-2026-03-11-at-10-32-58-1-Instagram.png
END:VEVENT
END:VCALENDAR