BEGIN:VCALENDAR
VERSION:2.0
PRODID:-//Anthony Caporale - ECPv6.15.18//NONSGML v1.0//EN
CALSCALE:GREGORIAN
METHOD:PUBLISH
X-WR-CALNAME:Anthony Caporale
X-ORIGINAL-URL:https://anthonycaporale.com
X-WR-CALDESC:Events for Anthony Caporale
REFRESH-INTERVAL;VALUE=DURATION:PT1H
X-Robots-Tag:noindex
X-PUBLISHED-TTL:PT1H
BEGIN:VTIMEZONE
TZID:America/New_York
BEGIN:DAYLIGHT
TZOFFSETFROM:-0500
TZOFFSETTO:-0400
TZNAME:EDT
DTSTART:20250309T070000
END:DAYLIGHT
BEGIN:STANDARD
TZOFFSETFROM:-0400
TZOFFSETTO:-0500
TZNAME:EST
DTSTART:20251102T060000
END:STANDARD
BEGIN:DAYLIGHT
TZOFFSETFROM:-0500
TZOFFSETTO:-0400
TZNAME:EDT
DTSTART:20260308T070000
END:DAYLIGHT
BEGIN:STANDARD
TZOFFSETFROM:-0400
TZOFFSETTO:-0500
TZNAME:EST
DTSTART:20261101T060000
END:STANDARD
BEGIN:DAYLIGHT
TZOFFSETFROM:-0500
TZOFFSETTO:-0400
TZNAME:EDT
DTSTART:20270314T070000
END:DAYLIGHT
BEGIN:STANDARD
TZOFFSETFROM:-0400
TZOFFSETTO:-0500
TZNAME:EST
DTSTART:20271107T060000
END:STANDARD
END:VTIMEZONE
BEGIN:VEVENT
DTSTART;TZID=America/New_York:20260509T180000
DTEND;TZID=America/New_York:20260509T193000
DTSTAMP:20260420T071800
CREATED:20260316T175339Z
LAST-MODIFIED:20260316T175339Z
UID:2226-1778349600-1778355000@anthonycaporale.com
SUMMARY:Mother’s Day Mixology
DESCRIPTION:Treat Mom to an evening out together while you learn how to make the perfect drinks for your Mother’s Day celebration! Chef Anthony Caporale\, star of “The Imbible” series of Off-Broadway musicals about spirits and cocktails\, will take you on a guided tour through the history of these luxurious libations\, and show you how to craft them at home whenever the mood strikes. You don’t need a special occasion to enjoy a well-made cocktail\, but Mother’s Day is certainly cause for a toast! \nOn The Menu:\n-Pear Bellini\n-Classic Cosmopolitan\n-Chocolate Truffle Martini \nYOUR REGISTRATION ALSO INCLUDES AN EXCLUSIVE “LAST-CALL” SHOPPING SPREE – GET 15% OFF ALL PURCHASES MADE AFTER CLASS!
URL:https://anthonycaporale.com/event/mothers-day-mixology/
LOCATION:Kitch Mystic\, 27 Coogan Blvd\, Bldg 19a\, Mystic\, CT\, 06355\, United States
CATEGORIES:Mixology Class,Mother's Day Class
ATTACH;FMTTYPE=image/jpeg:https://anthonycaporale.com/wp-content/uploads/2026/03/Mothers-Day-Cocktails.jpeg
ORGANIZER;CN="Kitch Mystic":MAILTO:info@kitchmystic.com
END:VEVENT
END:VCALENDAR